Workbook

Sheet Nhập liệu
A1: THEO DÕI DOANH THU BÁN HÀNG THEO NGÀY
A2: Mỗi dòng là một kênh trong một ngày. Cột H, I tự tính.
A4: Ngày | B4: Kênh bán | C4: Số đơn | D4: Doanh thu | E4: Giảm giá, khuyến mãi | F4: Phí sàn, vận chuyển | G4: Chi phí quảng cáo | H4: Doanh thu thuần | I4: Còn lại sau chi phí bán | J4: Ghi chú
H5: =IF(D5="","",D5-E5-F5) | I5: =IF(D5="","",H5-G5)
H6: =IF(D6="","",D6-E6-F6) | I6: =IF(D6="","",H6-G6)
H7: =IF(D7="","",D7-E7-F7) | I7: =IF(D7="","",H7-G7)
H8: =IF(D8="","",D8-E8-F8) | I8: =IF(D8="","",H8-G8)
H9: =IF(D9="","",D9-E9-F9) | I9: =IF(D9="","",H9-G9)
H10: =IF(D10="","",D10-E10-F10) | I10: =IF(D10="","",H10-G10)
H11: =IF(D11="","",D11-E11-F11) | I11: =IF(D11="","",H11-G11)
H12: =IF(D12="","",D12-E12-F12) | I12: =IF(D12="","",H12-G12)
H13: =IF(D13="","",D13-E13-F13) | I13: =IF(D13="","",H13-G13)
H14: =IF(D14="","",D14-E14-F14) | I14: =IF(D14="","",H14-G14)
H15: =IF(D15="","",D15-E15-F15) | I15: =IF(D15="","",H15-G15)
H16: =IF(D16="","",D16-E16-F16) | I16: =IF(D16="","",H16-G16)
... H154: =IF(D154="","",D154-E154-F154) | I154: =IF(D154="","",H154-G154)

Sheet Tổng hợp tháng
A1: TỔNG HỢP DOANH THU THEO THÁNG
A3: Tháng | B3: 1 | C3: Đổi tháng, năm ở ô vàng để xem số liệu.
A4: Năm | B4: 2026
A6: Kênh bán | B6: Số đơn | C6: Doanh thu | D6: Giảm giá | E6: Phí sàn, vận chuyển | F6: Chi phí QC | G6: Còn lại sau chi phí | H6: Tỷ trọng
A7: Cửa hàng | B7: =SUMIFS('Nhập liệu'!C$5:C$154,'Nhập liệu'!B$5:B$154,$A7,'Nhập liệu'!A$5:A$154,">="&DATE($B$4,$B$3,1),'Nhập liệu'!A$5:A$154,"<"&EDATE(DATE($B$4,$B$3,1),1)) | C7: =SUMIFS('Nhập liệu'!D$5:D$154,'Nhập liệu'!B$5:B$154,$A7,'Nhập liệu'!A$5:A$154,">="&DATE($B$4,$B$3,1),'Nhập liệu'!A$5:A$154,"<"&EDATE(DATE($B$4,$B$3,1),1)) | D7: =SUMIFS('Nhập liệu'!E$5:E$154,'Nhập liệu'!B$5:B$154,$A7,'Nhập liệu'!A$5:A$154,">="&DATE($B$4,$B$3,1),'Nhập liệu'!A$5:A$154,"<"&EDATE(DATE($B$4,$B$3,1),1)) | E7: =SUMIFS('Nhập liệu'!F$5:F$154,'Nhập liệu'!B$5:B$154,$A7,'Nhập liệu'!A$5:A$154,">="&DATE($B$4,$B$3,1),'Nhập liệu'!A$5:A$154,"<"&EDATE(DATE($B$4,$B$3,1),1)) | F7: =SUMIFS('Nhập liệu'!G$5:G$154,'Nhập liệu'!B$5:B$154,$A7,'Nhập liệu'!A$5:A$154,">="&DATE($B$4,$B$3,1),'Nhập liệu'!A$5:A$154,"<"&EDATE(DATE($B$4,$B$3,1),1)) | G7: =C7-D7-E7-F7 | H7: =IF($C$15=0,0,C7/$C$15)
A8: Website | B8: =SUMIFS('Nhập liệu'!C$5:C$154,'Nhập liệu'!B$5:B$154,$A8,'Nhập liệu'!A$5:A$154,">="&DATE($B$4,$B$3,1),'Nhập liệu'!A$5:A$154,"<"&EDATE(DATE($B$4,$B$3,1),1)) | C8: =SUMIFS('Nhập liệu'!D$5:D$154,'Nhập liệu'!B$5:B$154,$A8,'Nhập liệu'!A$5:A$154,">="&DATE($B$4,$B$3,1),'Nhập liệu'!A$5:A$154,"<"&EDATE(DATE($B$4,$B$3,1),1)) | D8: =SUMIFS('Nhập liệu'!E$5:E$154,'Nhập liệu'!B$5:B$154,$A8,'Nhập liệu'!A$5:A$154,">="&DATE($B$4,$B$3,1),'Nhập liệu'!A$5:A$154,"<"&EDATE(DATE($B$4,$B$3,1),1)) | E8: =SUMIFS('Nhập liệu'!F$5:F$154,'Nhập liệu'!B$5:B$154,$A8,'Nhập liệu'!A$5:A$154,">="&DATE($B$4,$B$3,1),'Nhập liệu'!A$5:A$154,"<"&EDATE(DATE($B$4,$B$3,1),1)) | F8: =SUMIFS('Nhập liệu'!G$5:G$154,'Nhập liệu'!B$5:B$154,$A8,'Nhập liệu'!A$5:A$154,">="&DATE($B$4,$B$3,1),'Nhập liệu'!A$5:A$154,"<"&EDATE(DATE($B$4,$B$3,1),1)) | G8: =C8-D8-E8-F8 | H8: =IF($C$15=0,0,C8/$C$15)
A9: Shopee | B9: =SUMIFS('Nhập liệu'!C$5:C$154,'Nhập liệu'!B$5:B$154,$A9,'Nhập liệu'!A$5:A$154,">="&DATE($B$4,$B$3,1),'Nhập liệu'!A$5:A$154,"<"&EDATE(DATE($B$4,$B$3,1),1)) | C9: =SUMIFS('Nhập liệu'!D$5:D$154,'Nhập liệu'!B$5:B$154,$A9,'Nhập liệu'!A$5:A$154,">="&DATE($B$4,$B$3,1),'Nhập liệu'!A$5:A$154,"<"&EDATE(DATE($B$4,$B$3,1),1)) | D9: =SUMIFS('Nhập liệu'!E$5:E$154,'Nhập liệu'!B$5:B$154,$A9,'Nhập liệu'!A$5:A$154,">="&DATE($B$4,$B$3,1),'Nhập liệu'!A$5:A$154,"<"&EDATE(DATE($B$4,$B$3,1),1)) | E9: =SUMIFS('Nhập liệu'!F$5:F$154,'Nhập liệu'!B$5:B$154,$A9,'Nhập liệu'!A$5:A$154,">="&DATE($B$4,$B$3,1),'Nhập liệu'!A$5:A$154,"<"&EDATE(DATE($B$4,$B$3,1),1)) | F9: =SUMIFS('Nhập liệu'!G$5:G$154,'Nhập liệu'!B$5:B$154,$A9,'Nhập liệu'!A$5:A$154,">="&DATE($B$4,$B$3,1),'Nhập liệu'!A$5:A$154,"<"&EDATE(DATE($B$4,$B$3,1),1)) | G9: =C9-D9-E9-F9 | H9: =IF($C$15=0,0,C9/$C$15)
A10: TikTok Shop | B10: =SUMIFS('Nhập liệu'!C$5:C$154,'Nhập liệu'!B$5:B$154,$A10,'Nhập liệu'!A$5:A$154,">="&DATE($B$4,$B$3,1),'Nhập liệu'!A$5:A$154,"<"&EDATE(DATE($B$4,$B$3,1),1)) | C10: =SUMIFS('Nhập liệu'!D$5:D$154,'Nhập liệu'!B$5:B$154,$A10,'Nhập liệu'!A$5:A$154,">="&DATE($B$4,$B$3,1),'Nhập liệu'!A$5:A$154,"<"&EDATE(DATE($B$4,$B$3,1),1)) | D10: =SUMIFS('Nhập liệu'!E$5:E$154,'Nhập liệu'!B$5:B$154,$A10,'Nhập liệu'!A$5:A$154,">="&DATE($B$4,$B$3,1),'Nhập liệu'!A$5:A$154,"<"&EDATE(DATE($B$4,$B$3,1),1)) | E10: =SUMIFS('Nhập liệu'!F$5:F$154,'Nhập liệu'!B$5:B$154,$A10,'Nhập liệu'!A$5:A$154,">="&DATE($B$4,$B$3,1),'Nhập liệu'!A$5:A$154,"<"&EDATE(DATE($B$4,$B$3,1),1)) | F10: =SUMIFS('Nhập liệu'!G$5:G$154,'Nhập liệu'!B$5:B$154,$A10,'Nhập liệu'!A$5:A$154,">="&DATE($B$4,$B$3,1),'Nhập liệu'!A$5:A$154,"<"&EDATE(DATE($B$4,$B$3,1),1)) | G10: =C10-D10-E10-F10 | H10: =IF($C$15=0,0,C10/$C$15)
A11: Facebook | B11: =SUMIFS('Nhập liệu'!C$5:C$154,'Nhập liệu'!B$5:B$154,$A11,'Nhập liệu'!A$5:A$154,">="&DATE($B$4,$B$3,1),'Nhập liệu'!A$5:A$154,"<"&EDATE(DATE($B$4,$B$3,1),1)) | C11: =SUMIFS('Nhập liệu'!D$5:D$154,'Nhập liệu'!B$5:B$154,$A11,'Nhập liệu'!A$5:A$154,">="&DATE($B$4,$B$3,1),'Nhập liệu'!A$5:A$154,"<"&EDATE(DATE($B$4,$B$3,1),1)) | D11: =SUMIFS('Nhập liệu'!E$5:E$154,'Nhập liệu'!B$5:B$154,$A11,'Nhập liệu'!A$5:A$154,">="&DATE($B$4,$B$3,1),'Nhập liệu'!A$5:A$154,"<"&EDATE(DATE($B$4,$B$3,1),1)) | E11: =SUMIFS('Nhập liệu'!F$5:F$154,'Nhập liệu'!B$5:B$154,$A11,'Nhập liệu'!A$5:A$154,">="&DATE($B$4,$B$3,1),'Nhập liệu'!A$5:A$154,"<"&EDATE(DATE($B$4,$B$3,1),1)) | F11: =SUMIFS('Nhập liệu'!G$5:G$154,'Nhập liệu'!B$5:B$154,$A11,'Nhập liệu'!A$5:A$154,">="&DATE($B$4,$B$3,1),'Nhập liệu'!A$5:A$154,"<"&EDATE(DATE($B$4,$B$3,1),1)) | G11: =C11-D11-E11-F11 | H11: =IF($C$15=0,0,C11/$C$15)
A12: Zalo | B12: =SUMIFS('Nhập liệu'!C$5:C$154,'Nhập liệu'!B$5:B$154,$A12,'Nhập liệu'!A$5:A$154,">="&DATE($B$4,$B$3,1),'Nhập liệu'!A$5:A$154,"<"&EDATE(DATE($B$4,$B$3,1),1)) | C12: =SUMIFS('Nhập liệu'!D$5:D$154,'Nhập liệu'!B$5:B$154,$A12,'Nhập liệu'!A$5:A$154,">="&DATE($B$4,$B$3,1),'Nhập liệu'!A$5:A$154,"<"&EDATE(DATE($B$4,$B$3,1),1)) | D12: =SUMIFS('Nhập liệu'!E$5:E$154,'Nhập liệu'!B$5:B$154,$A12,'Nhập liệu'!A$5:A$154,">="&DATE($B$4,$B$3,1),'Nhập liệu'!A$5:A$154,"<"&EDATE(DATE($B$4,$B$3,1),1)) | E12: =SUMIFS('Nhập liệu'!F$5:F$154,'Nhập liệu'!B$5:B$154,$A12,'Nhập liệu'!A$5:A$154,">="&DATE($B$4,$B$3,1),'Nhập liệu'!A$5:A$154,"<"&EDATE(DATE($B$4,$B$3,1),1)) | F12: =SUMIFS('Nhập liệu'!G$5:G$154,'Nhập liệu'!B$5:B$154,$A12,'Nhập liệu'!A$5:A$154,">="&DATE($B$4,$B$3,1),'Nhập liệu'!A$5:A$154,"<"&EDATE(DATE($B$4,$B$3,1),1)) | G12: =C12-D12-E12-F12 | H12: =IF($C$15=0,0,C12/$C$15)
A13: Đại lý | B13: =SUMIFS('Nhập liệu'!C$5:C$154,'Nhập liệu'!B$5:B$154,$A13,'Nhập liệu'!A$5:A$154,">="&DATE($B$4,$B$3,1),'Nhập liệu'!A$5:A$154,"<"&EDATE(DATE($B$4,$B$3,1),1)) | C13: =SUMIFS('Nhập liệu'!D$5:D$154,'Nhập liệu'!B$5:B$154,$A13,'Nhập liệu'!A$5:A$154,">="&DATE($B$4,$B$3,1),'Nhập liệu'!A$5:A$154,"<"&EDATE(DATE($B$4,$B$3,1),1)) | D13: =SUMIFS('Nhập liệu'!E$5:E$154,'Nhập liệu'!B$5:B$154,$A13,'Nhập liệu'!A$5:A$154,">="&DATE($B$4,$B$3,1),'Nhập liệu'!A$5:A$154,"<"&EDATE(DATE($B$4,$B$3,1),1)) | E13: =SUMIFS('Nhập liệu'!F$5:F$154,'Nhập liệu'!B$5:B$154,$A13,'Nhập liệu'!A$5:A$154,">="&DATE($B$4,$B$3,1),'Nhập liệu'!A$5:A$154,"<"&EDATE(DATE($B$4,$B$3,1),1)) | F13: =SUMIFS('Nhập liệu'!G$5:G$154,'Nhập liệu'!B$5:B$154,$A13,'Nhập liệu'!A$5:A$154,">="&DATE($B$4,$B$3,1),'Nhập liệu'!A$5:A$154,"<"&EDATE(DATE($B$4,$B$3,1),1)) | G13: =C13-D13-E13-F13 | H13: =IF($C$15=0,0,C13/$C$15)
A14: Khác | B14: =SUMIFS('Nhập liệu'!C$5:C$154,'Nhập liệu'!B$5:B$154,$A14,'Nhập liệu'!A$5:A$154,">="&DATE($B$4,$B$3,1),'Nhập liệu'!A$5:A$154,"<"&EDATE(DATE($B$4,$B$3,1),1)) | C14: =SUMIFS('Nhập liệu'!D$5:D$154,'Nhập liệu'!B$5:B$154,$A14,'Nhập liệu'!A$5:A$154,">="&DATE($B$4,$B$3,1),'Nhập liệu'!A$5:A$154,"<"&EDATE(DATE($B$4,$B$3,1),1)) | D14: =SUMIFS('Nhập liệu'!E$5:E$154,'Nhập liệu'!B$5:B$154,$A14,'Nhập liệu'!A$5:A$154,">="&DATE($B$4,$B$3,1),'Nhập liệu'!A$5:A$154,"<"&EDATE(DATE($B$4,$B$3,1),1)) | E14: =SUMIFS('Nhập liệu'!F$5:F$154,'Nhập liệu'!B$5:B$154,$A14,'Nhập liệu'!A$5:A$154,">="&DATE($B$4,$B$3,1),'Nhập liệu'!A$5:A$154,"<"&EDATE(DATE($B$4,$B$3,1),1)) | F14: =SUMIFS('Nhập liệu'!G$5:G$154,'Nhập liệu'!B$5:B$154,$A14,'Nhập liệu'!A$5:A$154,">="&DATE($B$4,$B$3,1),'Nhập liệu'!A$5:A$154,"<"&EDATE(DATE($B$4,$B$3,1),1)) | G14: =C14-D14-E14-F14 | H14: =IF($C$15=0,0,C14/$C$15)
A15: TỔNG | B15: =SUM(B7:B14) | C15: =SUM(C7:C14) | D15: =SUM(D7:D14) | E15: =SUM(E7:E14) | F15: =SUM(F7:F14) | G15: =SUM(G7:G14) | H15: =IF(C15=0,0,1)

Sheet Hướng dẫn
B1: Hướng dẫn dùng file theo dõi doanh thu theo ngày
A3: 1 | B3: Cuối mỗi ngày, ở sheet Nhập liệu, thêm một dòng cho mỗi kênh có bán: ngày, kênh (chọn trong danh sách), số đơn, doanh thu.
A4: 2 | B4: Điền giảm giá, phí sàn hoặc phí vận chuyển và chi phí quảng cáo của kênh đó trong ngày (không có thì để 0).
A5: 3 | B5: Cột Doanh thu thuần và Còn lại sau chi phí bán tự tính. Đây chưa trừ giá vốn hàng bán.
A6: 4 | B6: Sang sheet Tổng hợp tháng, đổi tháng và năm ở ô vàng để xem từng kênh đóng góp bao nhiêu.
A7: 5 | B7: Mỗi tuần xem kênh nào có chi phí quảng cáo cao mà phần còn lại thấp để điều chỉnh ngân sách.
B9: Ô nền vàng là ô nhập liệu. Ô có công thức tự tính, không cần gõ.
B10: Biểu mẫu miễn phí từ ZoneTech (zonetech.com.vn). Bản Pro có thêm tự động hoá trên Google Sheets: xem bộ tài liệu ZoneKit.
